BEGIN:VCALENDAR
VERSION:2.0
PRODID:-//pretix//pretix.de//
BEGIN:VTIMEZONE
TZID:Europe/Berlin
BEGIN:STANDARD
DTSTART:20001029T040000
RRULE:FREQ=YEARLY;BYDAY=-1SU;BYMONTH=10
TZNAME:CET
TZOFFSETFROM:+0200
TZOFFSETTO:+0100
END:STANDARD
BEGIN:DAYLIGHT
DTSTART:20000326T030000
RRULE:FREQ=YEARLY;BYDAY=-1SU;BYMONTH=3
TZNAME:CEST
TZOFFSETFROM:+0100
TZOFFSETTO:+0200
END:DAYLIGHT
END:VTIMEZONE
BEGIN:VEVENT
UID:pretix-citypulse-open-jam-28@tickets.city-pulse.de
DTSTART;TZID=Europe/Berlin:20260507T180000
DTEND;TZID=Europe/Berlin:20260507T220000
DESCRIPTION:Tickets: https://tickets.city-pulse.de/citypulse/open-jam/28/\n
 Einlass: 07.05.2026 17:00\nVeranstalter: CityPulse e.V.
DTSTAMP:20260420T082950Z
LOCATION:Naturfreundehaus Steinbergle\, Stresemannstr. 6\, 70191 Stuttgart
SUMMARY:Open Jam Sessions
END:VEVENT
END:VCALENDAR
